BEGIN:VCALENDAR
VERSION:2.0
PRODID:-//empowercdc.org//NONSGML kigkonsult.se iCalcreator 2.30.10//
CALSCALE:GREGORIAN
METHOD:PUBLISH
UID:043cd42b-5cc5-4129-aec5-16426e9650c5
X-WR-CALDESC:TxSMP- Empower\nScam of the Month\n@11:00AM\n\nSOCIAL-\nEmpowe
 r\nHot Chocolate Bar\n@12:00PM
X-WR-RELCALID:a3bdb2519fb7177032553ca1b24bed91
X-WR-TIMEZONE:America/Chicago
BEGIN:VTIMEZONE
TZID:America/Chicago
BEGIN:STANDARD
TZNAME:CST
DTSTART:20251102T020000
TZOFFSETFROM:-0500
TZOFFSETTO:-0600
RDATE:20261101T020000
END:STANDARD
BEGIN:DAYLIGHT
TZNAME:CDT
DTSTART:20250309T020000
TZOFFSETFROM:-0600
TZOFFSETTO:-0500
RDATE:20260308T020000
RDATE:20270314T020000
END:DAYLIGHT
END:VTIMEZONE
BEGIN:VEVENT
UID:0d89d381-bf8b-4c4d-980a-42fc78beb61a
DTSTAMP:20260423T203929Z
DESCRIPTION:TxSMP- Empower\nScam of the Month\n@11:00AM\n\nSOCIAL-\nEmpower
 \nHot Chocolate Bar\n@12:00PM
DTSTART;TZID=America/Chicago:20260113T110000
DTEND;TZID=America/Chicago:20260113T130000
LOCATION:1830 Hollyoak Dr\, Houston\, AL 77084 US
SUMMARY:Hollyoak: TxSMP\, Social
END:VEVENT
END:VCALENDAR
