BEGIN:VCALENDAR
VERSION:2.0
PRODID:-//empowercdc.org//NONSGML kigkonsult.se iCalcreator 2.30.10//
CALSCALE:GREGORIAN
METHOD:PUBLISH
UID:93a9448b-4d24-4cf8-b161-3382741ac941
X-WR-CALDESC:ARTS & CRAFTS\nDIY MUGS\n@2PM\n\nEXERCISE\nKIDS RECESS WORKOUT
 \n@3PM
X-WR-RELCALID:78dbc4efd1ed4f153dadaf8193e0bc6f
X-WR-TIMEZONE:America/Chicago
BEGIN:VTIMEZONE
TZID:America/Chicago
BEGIN:STANDARD
TZNAME:CST
DTSTART:20251102T020000
TZOFFSETFROM:-0500
TZOFFSETTO:-0600
RDATE:20261101T020000
END:STANDARD
BEGIN:DAYLIGHT
TZNAME:CDT
DTSTART:20250309T020000
TZOFFSETFROM:-0600
TZOFFSETTO:-0500
RDATE:20260308T020000
RDATE:20270314T020000
END:DAYLIGHT
END:VTIMEZONE
BEGIN:VEVENT
UID:2fae0274-89d6-44df-a65a-1414a850deae
DTSTAMP:20260423T203809Z
DESCRIPTION:ARTS & CRAFTS\nDIY MUGS\n@2PM\n\nEXERCISE\nKIDS RECESS WORKOUT
 \n@3PM
DTSTART;TZID=America/Chicago:20260112T140000
DTEND;TZID=America/Chicago:20260112T160000
LOCATION:1620 Spencer Hwy\, South Houston\, TX 77587 US
SUMMARY:Windsor Gardens: Arts & Crafts\, Exercise
END:VEVENT
END:VCALENDAR
