BEGIN:VCALENDAR
VERSION:2.0
PRODID:-//empowercdc.org//NONSGML kigkonsult.se iCalcreator 2.30.10//
CALSCALE:GREGORIAN
METHOD:PUBLISH
UID:79c63082-cf05-49ff-8902-b0fc3c266d58
X-WR-CALDESC:CHARACTER\nBUILDING-Empower\nPurpose\n@ 1:00PM\n\nFOOD PANTRY-
 \nEmpower\n\nFood Pantry\n@2:00PM\n*Registration Required*
X-WR-RELCALID:2cb91f3ea040637afc375bfb1e4dcda1
X-WR-TIMEZONE:America/Chicago
BEGIN:VTIMEZONE
TZID:America/Chicago
BEGIN:STANDARD
TZNAME:CST
DTSTART:20251102T020000
TZOFFSETFROM:-0500
TZOFFSETTO:-0600
RDATE:20261101T020000
END:STANDARD
BEGIN:DAYLIGHT
TZNAME:CDT
DTSTART:20250309T020000
TZOFFSETFROM:-0600
TZOFFSETTO:-0500
RDATE:20260308T020000
RDATE:20270314T020000
END:DAYLIGHT
END:VTIMEZONE
BEGIN:VEVENT
UID:0a465e22-dea4-4353-a67f-ce3a8d4dfe20
DTSTAMP:20260423T204400Z
DESCRIPTION:CHARACTER\nBUILDING-Empower\nPurpose\n@ 1:00PM\n\nFOOD PANTRY-
 \nEmpower\n\nFood Pantry\n@2:00PM\n*Registration Required*
DTSTART;TZID=America/Chicago:20260112T130000
DTEND;TZID=America/Chicago:20260112T150000
LOCATION:325 Flagship Boulevard\, Montgomery\, AL 77316 US
SUMMARY:The Heritage: Character Building\, Food Pantry
END:VEVENT
END:VCALENDAR
