BEGIN:VCALENDAR
VERSION:2.0
PRODID:-//empowercdc.org//NONSGML kigkonsult.se iCalcreator 2.30.10//
CALSCALE:GREGORIAN
METHOD:PUBLISH
UID:3623e2db-ddcc-4d3f-a79c-3855bb71a160
X-WR-CALDESC:ARTS & CRAFTS-\nDoTerra- CP\n\nEssential Oil\n@10:00AM
X-WR-RELCALID:f20a6e984d9efad4589c1aae74c2ef16
X-WR-TIMEZONE:America/Chicago
BEGIN:VTIMEZONE
TZID:America/Chicago
BEGIN:STANDARD
TZNAME:CST
DTSTART:20251102T020000
TZOFFSETFROM:-0500
TZOFFSETTO:-0600
RDATE:20261101T020000
END:STANDARD
BEGIN:DAYLIGHT
TZNAME:CDT
DTSTART:20250309T020000
TZOFFSETFROM:-0600
TZOFFSETTO:-0500
RDATE:20260308T020000
RDATE:20270314T020000
END:DAYLIGHT
END:VTIMEZONE
BEGIN:VEVENT
UID:bd651a06-7d1d-4b36-a535-8041b5947b8d
DTSTAMP:20260423T203839Z
DESCRIPTION:ARTS & CRAFTS-\nDoTerra- CP\n\nEssential Oil\n@10:00AM
DTSTART;TZID=America/Chicago:20260109T100000
DTEND;TZID=America/Chicago:20260109T110000
LOCATION:1830 Hollyoak Dr\, Houston\, AL 77084 US
SUMMARY:Hollyoak: Arts & Crafts
END:VEVENT
END:VCALENDAR
