BEGIN:VCALENDAR
VERSION:2.0
PRODID:-//empowercdc.org//NONSGML kigkonsult.se iCalcreator 2.30.10//
CALSCALE:GREGORIAN
METHOD:PUBLISH
UID:4c765785-2f25-4933-b011-dd52f3aef32d
X-WR-CALDESC:ARTS & CRAFTS-\nEmpower\n\n2026 Vision Boards\n@11:00AM\n*Regi
 stration Required*
X-WR-RELCALID:59e8a7c7c9a2d919c51300ba09d0bd98
X-WR-TIMEZONE:America/Chicago
BEGIN:VTIMEZONE
TZID:America/Chicago
BEGIN:STANDARD
TZNAME:CST
DTSTART:20251102T020000
TZOFFSETFROM:-0500
TZOFFSETTO:-0600
RDATE:20261101T020000
END:STANDARD
BEGIN:DAYLIGHT
TZNAME:CDT
DTSTART:20250309T020000
TZOFFSETFROM:-0600
TZOFFSETTO:-0500
RDATE:20260308T020000
RDATE:20270314T020000
END:DAYLIGHT
END:VTIMEZONE
BEGIN:VEVENT
UID:e21078d5-37d0-4317-8d4c-e8c0705f12ab
DTSTAMP:20260423T204220Z
DESCRIPTION:ARTS & CRAFTS-\nEmpower\n\n2026 Vision Boards\n@11:00AM\n*Regis
 tration Required*
DTSTART;TZID=America/Chicago:20260108T110000
DTEND;TZID=America/Chicago:20260108T120000
LOCATION:219 Flagship Blvd\, Montgomery\, TX 77316 US
SUMMARY:The Heritage 55+: Arts & Crafts
END:VEVENT
END:VCALENDAR
