BEGIN:VCALENDAR
VERSION:2.0
PRODID:-//empowercdc.org//NONSGML kigkonsult.se iCalcreator 2.30.10//
CALSCALE:GREGORIAN
METHOD:PUBLISH
UID:667c7d8d-7d7c-4ffb-8f2c-56da39a8f14c
X-WR-CALDESC:EXERCISE- BONA- CP\nSuper Senior Fitness\n@1:00PM\n\nSOCIAL-\n
 Texans Benefit-CP\n\nBirthday Social\n@ 2:30PM
X-WR-RELCALID:be5a787bb9e794a869221dc64aa81e21
X-WR-TIMEZONE:America/Chicago
BEGIN:VTIMEZONE
TZID:America/Chicago
BEGIN:STANDARD
TZNAME:CST
DTSTART:20251102T020000
TZOFFSETFROM:-0500
TZOFFSETTO:-0600
RDATE:20261101T020000
END:STANDARD
BEGIN:DAYLIGHT
TZNAME:CDT
DTSTART:20250309T020000
TZOFFSETFROM:-0600
TZOFFSETTO:-0500
RDATE:20260308T020000
RDATE:20270314T020000
END:DAYLIGHT
END:VTIMEZONE
BEGIN:VEVENT
UID:5153fad6-c601-431a-a59b-78f38ded5fa1
DTSTAMP:20260423T203758Z
DESCRIPTION:EXERCISE- BONA- CP\nSuper Senior Fitness\n@1:00PM\n\nSOCIAL-\nT
 exans Benefit-CP\n\nBirthday Social\n@ 2:30PM
DTSTART;TZID=America/Chicago:20260108T130000
DTEND;TZID=America/Chicago:20260108T150000
LOCATION:1830 Hollyoak Dr\, Houston\, AL 77084 US
SUMMARY:Hollyoak: Exercise\, Texas Benefit
END:VEVENT
END:VCALENDAR
