BEGIN:VCALENDAR
VERSION:2.0
PRODID:-//empowercdc.org//NONSGML kigkonsult.se iCalcreator 2.30.10//
CALSCALE:GREGORIAN
METHOD:PUBLISH
UID:42994fff-aa03-4413-8202-87c6e4fc2876
X-WR-CALDESC:SOCIAL- Texans\nBenefit- CP\nBirthday Social\n@2:30PM
X-WR-RELCALID:bb8340c12acdd171e5e2b14d3cc23b98
X-WR-TIMEZONE:America/Chicago
BEGIN:VTIMEZONE
TZID:America/Chicago
BEGIN:STANDARD
TZNAME:CST
DTSTART:20251102T020000
TZOFFSETFROM:-0500
TZOFFSETTO:-0600
RDATE:20261101T020000
END:STANDARD
BEGIN:DAYLIGHT
TZNAME:CDT
DTSTART:20250309T020000
TZOFFSETFROM:-0600
TZOFFSETTO:-0500
RDATE:20260308T020000
RDATE:20270314T020000
END:DAYLIGHT
END:VTIMEZONE
BEGIN:VEVENT
UID:371c4f24-c4f9-4690-a95b-883a9f0123fe
DTSTAMP:20260423T204350Z
DESCRIPTION:SOCIAL- Texans\nBenefit- CP\nBirthday Social\n@2:30PM
DTSTART;TZID=America/Chicago:20260107T143000
DTEND;TZID=America/Chicago:20260107T153000
LOCATION:325 Flagship Boulevard\, Montgomery\, AL 77316 US
SUMMARY:The Heritage: Birthday Social
END:VEVENT
END:VCALENDAR
