BEGIN:VCALENDAR
VERSION:2.0
PRODID:-//empowercdc.org//NONSGML kigkonsult.se iCalcreator 2.30.10//
CALSCALE:GREGORIAN
METHOD:PUBLISH
UID:7c45e8e1-2469-418c-88ec-f4fbe61e4838
X-WR-CALDESC:SOCIAL- Texans\nBenefit- CP\nBirthday Social\n@12:30PM\n\n*Reg
 istration Required*
X-WR-RELCALID:1cf03032f8c335345adaa578a4eb7580
X-WR-TIMEZONE:America/Chicago
BEGIN:VTIMEZONE
TZID:America/Chicago
BEGIN:STANDARD
TZNAME:CST
DTSTART:20251102T020000
TZOFFSETFROM:-0500
TZOFFSETTO:-0600
RDATE:20261101T020000
END:STANDARD
BEGIN:DAYLIGHT
TZNAME:CDT
DTSTART:20250309T020000
TZOFFSETFROM:-0600
TZOFFSETTO:-0500
RDATE:20260308T020000
RDATE:20270314T020000
END:DAYLIGHT
END:VTIMEZONE
BEGIN:VEVENT
UID:802deff5-9af3-44f2-b99e-a5e39861575b
DTSTAMP:20260423T203936Z
DESCRIPTION:SOCIAL- Texans\nBenefit- CP\nBirthday Social\n@12:30PM\n\n*Regi
 stration Required*
DTSTART;TZID=America/Chicago:20260107T123000
DTEND;TZID=America/Chicago:20260107T133000
LOCATION:219 Flagship Blvd\, Montgomery\, TX 77316 US
SUMMARY:The Heritage 55+: Texans Benefit
END:VEVENT
END:VCALENDAR
