BEGIN:VCALENDAR
VERSION:2.0
PRODID:-//empowercdc.org//NONSGML kigkonsult.se iCalcreator 2.30.10//
CALSCALE:GREGORIAN
METHOD:PUBLISH
UID:9ae63591-0163-45c7-9d61-d2a0d7f80572
X-WR-CALDESC:SOCIAL\nGAME DAY\n@2PM\n\nEXERCISE\nKIDS RECESS WORKOUT\n@3PM
X-WR-RELCALID:3c1d9607b1210bea5fae53e0b82cc987
X-WR-TIMEZONE:America/Chicago
BEGIN:VTIMEZONE
TZID:America/Chicago
BEGIN:STANDARD
TZNAME:CST
DTSTART:20251102T020000
TZOFFSETFROM:-0500
TZOFFSETTO:-0600
RDATE:20261101T020000
END:STANDARD
BEGIN:DAYLIGHT
TZNAME:CDT
DTSTART:20250309T020000
TZOFFSETFROM:-0600
TZOFFSETTO:-0500
RDATE:20260308T020000
RDATE:20270314T020000
END:DAYLIGHT
END:VTIMEZONE
BEGIN:VEVENT
UID:fa8cde47-bbcf-48d4-b818-ed2bc3a929f4
DTSTAMP:20260423T203809Z
DESCRIPTION:SOCIAL\nGAME DAY\n@2PM\n\nEXERCISE\nKIDS RECESS WORKOUT\n@3PM
DTSTART;TZID=America/Chicago:20260106T140000
DTEND;TZID=America/Chicago:20260106T160000
LOCATION:1620 Spencer Hwy\, South Houston\, TX 77587 US
SUMMARY:Windsor Gardens: Social\, Exercise
END:VEVENT
END:VCALENDAR
