BEGIN:VCALENDAR
VERSION:2.0
PRODID:-//empowercdc.org//NONSGML kigkonsult.se iCalcreator 2.30.10//
CALSCALE:GREGORIAN
METHOD:PUBLISH
UID:acfab4fb-02f5-4d4f-ae18-df1b7e2dea5f
X-WR-CALDESC:EXERCISE-\nClub 22- CP\n\nAdaptive Fitness\n@1:00PM\n\nSenior 
 Literacy 101-\nEmpower\nEmail Accounts Refresher\n@ 2:00PM
X-WR-RELCALID:ea3dc42161aeea61523f9c95d99666bd
X-WR-TIMEZONE:America/Chicago
BEGIN:VTIMEZONE
TZID:America/Chicago
BEGIN:STANDARD
TZNAME:CST
DTSTART:20251102T020000
TZOFFSETFROM:-0500
TZOFFSETTO:-0600
RDATE:20261101T020000
END:STANDARD
BEGIN:DAYLIGHT
TZNAME:CDT
DTSTART:20250309T020000
TZOFFSETFROM:-0600
TZOFFSETTO:-0500
RDATE:20260308T020000
RDATE:20270314T020000
END:DAYLIGHT
END:VTIMEZONE
BEGIN:VEVENT
UID:31ebbac4-ebdd-4a0f-8b93-86d2900e0e76
DTSTAMP:20260423T204221Z
DESCRIPTION:EXERCISE-\nClub 22- CP\n\nAdaptive Fitness\n@1:00PM\n\nSenior L
 iteracy 101-\nEmpower\nEmail Accounts Refresher\n@ 2:00PM
DTSTART;TZID=America/Chicago:20260106T130000
DTEND;TZID=America/Chicago:20260106T150000
LOCATION:1830 Hollyoak Dr\, Houston\, AL 77084 US
SUMMARY:Hollyoak: Exercise\, Senior Literacy 101
END:VEVENT
END:VCALENDAR
