BEGIN:VCALENDAR
VERSION:2.0
PRODID:-//empowercdc.org//NONSGML kigkonsult.se iCalcreator 2.30.10//
CALSCALE:GREGORIAN
METHOD:PUBLISH
UID:83e74b48-4898-4222-9edb-987468452a60
X-WR-CALDESC:Rock the Clock- Blazer/Empower\n\nHoliday Social\n@5:00PM
X-WR-RELCALID:dd929d94fe573b5c8d4545f15bbb25c3
X-WR-TIMEZONE:America/Chicago
BEGIN:VTIMEZONE
TZID:America/Chicago
BEGIN:STANDARD
TZNAME:CST
DTSTART:20251102T020000
TZOFFSETFROM:-0500
TZOFFSETTO:-0600
RDATE:20261101T020000
END:STANDARD
BEGIN:DAYLIGHT
TZNAME:CDT
DTSTART:20250309T020000
TZOFFSETFROM:-0600
TZOFFSETTO:-0500
RDATE:20260308T020000
RDATE:20270314T020000
END:DAYLIGHT
END:VTIMEZONE
BEGIN:VEVENT
UID:64c038c1-102e-4cf8-968c-ae3951936c43
DTSTAMP:20260423T191959Z
DESCRIPTION:Rock the Clock- Blazer/Empower\n\nHoliday Social\n@5:00PM
DTSTART;TZID=America/Chicago:20251219T170000
DTEND;TZID=America/Chicago:20251219T190000
LOCATION:1830 Hollyoak Dr\, Houston\, AL 77084 US
SUMMARY:Hollyoak: Rock the Clock Holiday Social
END:VEVENT
END:VCALENDAR
