BEGIN:VCALENDAR
VERSION:2.0
PRODID:-//empowercdc.org//NONSGML kigkonsult.se iCalcreator 2.30.10//
CALSCALE:GREGORIAN
METHOD:PUBLISH
UID:7f418a2e-3574-40b5-8c62-7707f7dbeba4
X-WR-CALDESC:SOCIAL-\nEmpower\n\nHoliday Social\n@3:30PM
X-WR-RELCALID:faf0645be5ea105be23772f1cb62fbdb
X-WR-TIMEZONE:America/Chicago
BEGIN:VTIMEZONE
TZID:America/Chicago
BEGIN:STANDARD
TZNAME:CST
DTSTART:20251102T020000
TZOFFSETFROM:-0500
TZOFFSETTO:-0600
RDATE:20261101T020000
END:STANDARD
BEGIN:DAYLIGHT
TZNAME:CDT
DTSTART:20250309T020000
TZOFFSETFROM:-0600
TZOFFSETTO:-0500
RDATE:20260308T020000
RDATE:20270314T020000
END:DAYLIGHT
END:VTIMEZONE
BEGIN:VEVENT
UID:2840a542-6d63-472b-9818-c3366b6e1bc6
DTSTAMP:20260423T192122Z
DESCRIPTION:SOCIAL-\nEmpower\n\nHoliday Social\n@3:30PM
DTSTART;TZID=America/Chicago:20251218T153000
DTEND;TZID=America/Chicago:20251218T170000
LOCATION:325 Flagship Boulevard\, Montgomery\, AL 77316 US
SUMMARY:The Heritage: Holiday Social
END:VEVENT
END:VCALENDAR
