BEGIN:VCALENDAR
VERSION:2.0
PRODID:-//empowercdc.org//NONSGML kigkonsult.se iCalcreator 2.30.10//
CALSCALE:GREGORIAN
METHOD:PUBLISH
UID:b13ceb4e-5cb4-435b-925b-2737f1c85993
X-WR-CALDESC:SOCIAL-\nEmpower\n\nHoliday Social\n@12:30PM
X-WR-RELCALID:57d80e45329b3121e97a97bb8b40e01f
X-WR-TIMEZONE:America/Chicago
BEGIN:VTIMEZONE
TZID:America/Chicago
BEGIN:STANDARD
TZNAME:CST
DTSTART:20251102T020000
TZOFFSETFROM:-0500
TZOFFSETTO:-0600
RDATE:20261101T020000
END:STANDARD
BEGIN:DAYLIGHT
TZNAME:CDT
DTSTART:20250309T020000
TZOFFSETFROM:-0600
TZOFFSETTO:-0500
RDATE:20260308T020000
RDATE:20270314T020000
END:DAYLIGHT
END:VTIMEZONE
BEGIN:VEVENT
UID:4d2adf03-466a-431f-82c4-16f57cce547d
DTSTAMP:20260423T191608Z
DESCRIPTION:SOCIAL-\nEmpower\n\nHoliday Social\n@12:30PM
DTSTART;TZID=America/Chicago:20251218T123000
DTEND;TZID=America/Chicago:20251218T133000
LOCATION:219 Flagship Blvd\, Montgomery\, TX 77316 US
SUMMARY:The Heritage 55+: Holiday Social
END:VEVENT
END:VCALENDAR
