BEGIN:VCALENDAR
VERSION:2.0
PRODID:-//empowercdc.org//NONSGML kigkonsult.se iCalcreator 2.30.10//
CALSCALE:GREGORIAN
METHOD:PUBLISH
UID:860c068b-1b61-4ba4-ac46-b3c884e93c3b
X-WR-CALDESC:ARTS & CRAFTS-\nPeacock- CP\n\nFluid Art\n@2:00PM\n*Registrati
 on Required*
X-WR-RELCALID:a4728d0edc44a22281862e0b91e17840
X-WR-TIMEZONE:America/Chicago
BEGIN:VTIMEZONE
TZID:America/Chicago
BEGIN:STANDARD
TZNAME:CST
DTSTART:20251102T020000
TZOFFSETFROM:-0500
TZOFFSETTO:-0600
RDATE:20261101T020000
END:STANDARD
BEGIN:DAYLIGHT
TZNAME:CDT
DTSTART:20250309T020000
TZOFFSETFROM:-0600
TZOFFSETTO:-0500
RDATE:20260308T020000
RDATE:20270314T020000
END:DAYLIGHT
END:VTIMEZONE
BEGIN:VEVENT
UID:accd3a41-dd52-4abf-a832-c9bf730fe68b
DTSTAMP:20260423T191540Z
DESCRIPTION:ARTS & CRAFTS-\nPeacock- CP\n\nFluid Art\n@2:00PM\n*Registratio
 n Required*
DTSTART;TZID=America/Chicago:20251216T140000
DTEND;TZID=America/Chicago:20251216T150000
LOCATION:325 Flagship Boulevard\, Montgomery\, AL 77316 US
SUMMARY:The Heritage: Arts & Crafts
END:VEVENT
END:VCALENDAR
