BEGIN:VCALENDAR
VERSION:2.0
PRODID:-//empowercdc.org//NONSGML kigkonsult.se iCalcreator 2.30.10//
CALSCALE:GREGORIAN
METHOD:PUBLISH
UID:6f3b4912-8fb1-43f2-abd3-92d876c21e36
X-WR-CALDESC:ARTS & CRAFTS-\nPeacock- CP\n\nFluid Art\n@ 11:00 AM\n*Registr
 ation Required*
X-WR-RELCALID:90cd2273f4d2e9ee551d14b7993d2727
X-WR-TIMEZONE:America/Chicago
BEGIN:VTIMEZONE
TZID:America/Chicago
BEGIN:STANDARD
TZNAME:CST
DTSTART:20251102T020000
TZOFFSETFROM:-0500
TZOFFSETTO:-0600
RDATE:20261101T020000
END:STANDARD
BEGIN:DAYLIGHT
TZNAME:CDT
DTSTART:20250309T020000
TZOFFSETFROM:-0600
TZOFFSETTO:-0500
RDATE:20260308T020000
RDATE:20270314T020000
END:DAYLIGHT
END:VTIMEZONE
BEGIN:VEVENT
UID:f5d7a4c3-6dce-4421-9f63-2d720c386b8f
DTSTAMP:20260423T192250Z
DESCRIPTION:ARTS & CRAFTS-\nPeacock- CP\n\nFluid Art\n@ 11:00 AM\n*Registra
 tion Required*
DTSTART;TZID=America/Chicago:20251216T110000
DTEND;TZID=America/Chicago:20251216T120000
LOCATION:219 Flagship Blvd\, Montgomery\, TX 77316 US
SUMMARY:The Heritage 55+: Arts & Crafts
END:VEVENT
END:VCALENDAR
