BEGIN:VCALENDAR
VERSION:2.0
PRODID:-//empowercdc.org//NONSGML kigkonsult.se iCalcreator 2.30.10//
CALSCALE:GREGORIAN
METHOD:PUBLISH
UID:0837a0fc-c4c4-4992-9f33-4f85e521f924
X-WR-CALDESC:EXERCISE- Empower\nAdaptive Fitness\n@12:00PM\n\nARTS & CRAFTS
 -\nEmpower\n\nBasic Sewing Pt. 2\n@1:00PM\n*Registration Required*
X-WR-RELCALID:fa509d74895767e371ff463b2ff31e07
X-WR-TIMEZONE:America/Chicago
BEGIN:VTIMEZONE
TZID:America/Chicago
BEGIN:STANDARD
TZNAME:CST
DTSTART:20251102T020000
TZOFFSETFROM:-0500
TZOFFSETTO:-0600
RDATE:20261101T020000
END:STANDARD
BEGIN:DAYLIGHT
TZNAME:CDT
DTSTART:20250309T020000
TZOFFSETFROM:-0600
TZOFFSETTO:-0500
RDATE:20260308T020000
RDATE:20270314T020000
END:DAYLIGHT
END:VTIMEZONE
BEGIN:VEVENT
UID:dfa4304c-8a0d-4eb3-ab3e-31f2ba9c52e2
DTSTAMP:20260423T191253Z
DESCRIPTION:EXERCISE- Empower\nAdaptive Fitness\n@12:00PM\n\nARTS & CRAFTS-
 \nEmpower\n\nBasic Sewing Pt. 2\n@1:00PM\n*Registration Required*
DTSTART;TZID=America/Chicago:20251216T120000
DTEND;TZID=America/Chicago:20251216T140000
LOCATION:1830 Hollyoak Dr\, Houston\, AL 77084 US
SUMMARY:Hollyoak: Exercise\, Arts & Crafts
END:VEVENT
END:VCALENDAR
