BEGIN:VCALENDAR
VERSION:2.0
PRODID:-//empowercdc.org//NONSGML kigkonsult.se iCalcreator 2.30.10//
CALSCALE:GREGORIAN
METHOD:PUBLISH
UID:a762a696-4098-4436-91a7-b2594e6e49f1
X-WR-CALDESC:FOOD PANTRY-\nEmpower\n\nFood Pantry\n@2:00PM\n\nARTS & CRAFTS
 -\nEmpower\n\nHoliday Aprons\n@3:00PM\n*Registration Required*\n\nTxSMP- E
 mpower\nScam of the Month\n@4:00PM
X-WR-RELCALID:2d2b6a93b63d0979cb251bcd775cf423
X-WR-TIMEZONE:America/Chicago
BEGIN:VTIMEZONE
TZID:America/Chicago
BEGIN:STANDARD
TZNAME:CST
DTSTART:20251102T020000
TZOFFSETFROM:-0500
TZOFFSETTO:-0600
RDATE:20261101T020000
END:STANDARD
BEGIN:DAYLIGHT
TZNAME:CDT
DTSTART:20250309T020000
TZOFFSETFROM:-0600
TZOFFSETTO:-0500
RDATE:20260308T020000
RDATE:20270314T020000
END:DAYLIGHT
END:VTIMEZONE
BEGIN:VEVENT
UID:c7327be2-0a5e-4009-ac59-95cb9f9f917e
DTSTAMP:20260423T191422Z
DESCRIPTION:FOOD PANTRY-\nEmpower\n\nFood Pantry\n@2:00PM\n\nARTS & CRAFTS-
 \nEmpower\n\nHoliday Aprons\n@3:00PM\n*Registration Required*\n\nTxSMP- Em
 power\nScam of the Month\n@4:00PM
DTSTART;TZID=America/Chicago:20251215T140000
DTEND;TZID=America/Chicago:20251215T170000
LOCATION:325 Flagship Boulevard\, Montgomery\, AL 77316 US
SUMMARY:The Heritage: Food Pantry\, Arts & Crafts\, TxSMP
END:VEVENT
END:VCALENDAR
