BEGIN:VCALENDAR
VERSION:2.0
PRODID:-//empowercdc.org//NONSGML kigkonsult.se iCalcreator 2.30.10//
CALSCALE:GREGORIAN
METHOD:PUBLISH
UID:15ed71f1-fe85-4466-b11c-e689b24b33af
X-WR-CALDESC:ARTS & CRAFTS-\nEmpower\n\nHoliday Aprons\n@10:00AM\n*Registra
 tion Required*\n\nTxSMP- Empower\nScam of the Month\n@ 11:00AM\n\nOUTREACH
  &\nEDUCATION-Empower\nSeasonal Depression\nAwareness Month\n@12:00PM
X-WR-RELCALID:de773ba0cfe589e3fa43c1ce173986cd
X-WR-TIMEZONE:America/Chicago
BEGIN:VTIMEZONE
TZID:America/Chicago
BEGIN:STANDARD
TZNAME:CST
DTSTART:20251102T020000
TZOFFSETFROM:-0500
TZOFFSETTO:-0600
RDATE:20261101T020000
END:STANDARD
BEGIN:DAYLIGHT
TZNAME:CDT
DTSTART:20250309T020000
TZOFFSETFROM:-0600
TZOFFSETTO:-0500
RDATE:20260308T020000
RDATE:20270314T020000
END:DAYLIGHT
END:VTIMEZONE
BEGIN:VEVENT
UID:4bcfef1b-a0eb-4ed3-99ae-d3cc662b99e8
DTSTAMP:20260423T192040Z
DESCRIPTION:ARTS & CRAFTS-\nEmpower\n\nHoliday Aprons\n@10:00AM\n*Registrat
 ion Required*\n\nTxSMP- Empower\nScam of the Month\n@ 11:00AM\n\nOUTREACH 
 &\nEDUCATION-Empower\nSeasonal Depression\nAwareness Month\n@12:00PM
DTSTART;TZID=America/Chicago:20251215T100000
DTEND;TZID=America/Chicago:20251215T130000
LOCATION:219 Flagship Blvd\, Montgomery\, TX 77316 US
SUMMARY:The Heritage 55+: Arts & Crafts\, TxSMP
END:VEVENT
END:VCALENDAR
