BEGIN:VCALENDAR
VERSION:2.0
PRODID:-//empowercdc.org//NONSGML kigkonsult.se iCalcreator 2.30.10//
CALSCALE:GREGORIAN
METHOD:PUBLISH
UID:ba877c04-d3b8-4c0a-9a85-c3671c516d1b
X-WR-CALDESC:EXERCISE-\nUnity Fit- CP\n\nChair Dance\n@10:00AM
X-WR-RELCALID:53eb139cef0ce5cbe4d71f85cef5aae9
X-WR-TIMEZONE:America/Chicago
BEGIN:VTIMEZONE
TZID:America/Chicago
BEGIN:STANDARD
TZNAME:CST
DTSTART:20251102T020000
TZOFFSETFROM:-0500
TZOFFSETTO:-0600
RDATE:20261101T020000
END:STANDARD
BEGIN:DAYLIGHT
TZNAME:CDT
DTSTART:20250309T020000
TZOFFSETFROM:-0600
TZOFFSETTO:-0500
RDATE:20260308T020000
RDATE:20270314T020000
END:DAYLIGHT
END:VTIMEZONE
BEGIN:VEVENT
UID:58af1b1c-5ea9-481a-90ec-15dcba58ecca
DTSTAMP:20260423T191253Z
DESCRIPTION:EXERCISE-\nUnity Fit- CP\n\nChair Dance\n@10:00AM
DTSTART;TZID=America/Chicago:20251210T100000
DTEND;TZID=America/Chicago:20251210T110000
LOCATION:1830 Hollyoak Dr\, Houston\, AL 77084 US
SUMMARY:Hollyoak: Exercise (Chair Dance)
END:VEVENT
END:VCALENDAR
