BEGIN:VCALENDAR
VERSION:2.0
PRODID:-//empowercdc.org//NONSGML kigkonsult.se iCalcreator 2.30.10//
CALSCALE:GREGORIAN
METHOD:PUBLISH
UID:d3ee0820-3e38-484e-a44c-d8ab857dcc95
X-WR-CALDESC:EXERCISE-\nWellcare-CP\n\nBingo & Wellness\n@10:00AM
X-WR-RELCALID:01d5f3a2db91f236ea32a8a362c96f4e
X-WR-TIMEZONE:America/Chicago
BEGIN:VTIMEZONE
TZID:America/Chicago
BEGIN:STANDARD
TZNAME:CST
DTSTART:20251102T020000
TZOFFSETFROM:-0500
TZOFFSETTO:-0600
RDATE:20261101T020000
END:STANDARD
BEGIN:DAYLIGHT
TZNAME:CDT
DTSTART:20250309T020000
TZOFFSETFROM:-0600
TZOFFSETTO:-0500
RDATE:20260308T020000
RDATE:20270314T020000
END:DAYLIGHT
END:VTIMEZONE
BEGIN:VEVENT
UID:1e30c419-b3d1-45a6-a348-089a55048aea
DTSTAMP:20260423T173508Z
DESCRIPTION:EXERCISE-\nWellcare-CP\n\nBingo & Wellness\n@10:00AM
DTSTART;TZID=America/Chicago:20251125T100000
DTEND;TZID=America/Chicago:20251125T110000
LOCATION:1830 Hollyoak Dr\, Houston\, AL 77084 US
SUMMARY:Hollyoak: Exercise
END:VEVENT
END:VCALENDAR
