BEGIN:VCALENDAR
VERSION:2.0
PRODID:-//empowercdc.org//NONSGML kigkonsult.se iCalcreator 2.30.10//
CALSCALE:GREGORIAN
METHOD:PUBLISH
UID:81a6f8fd-1a5f-4621-b6cd-169258a47cce
X-WR-CALDESC:SOCIAL- The\nCAM Agency- CP\nGive Thanks Social\n@11:00AM\n\n*
 Registration REQUIRED*
X-WR-RELCALID:1124c9c0d9b2e54f17ae21b9af3ddd32
X-WR-TIMEZONE:America/Chicago
BEGIN:VTIMEZONE
TZID:America/Chicago
BEGIN:STANDARD
TZNAME:CST
DTSTART:20251102T020000
TZOFFSETFROM:-0500
TZOFFSETTO:-0600
RDATE:20261101T020000
END:STANDARD
BEGIN:DAYLIGHT
TZNAME:CDT
DTSTART:20250309T020000
TZOFFSETFROM:-0600
TZOFFSETTO:-0500
RDATE:20260308T020000
RDATE:20270314T020000
END:DAYLIGHT
END:VTIMEZONE
BEGIN:VEVENT
UID:ab8417e3-75f6-414e-a9e8-58875cd6a798
DTSTAMP:20260423T174323Z
DESCRIPTION:SOCIAL- The\nCAM Agency- CP\nGive Thanks Social\n@11:00AM\n\n*R
 egistration REQUIRED*
DTSTART;TZID=America/Chicago:20251121T110000
DTEND;TZID=America/Chicago:20251121T130000
LOCATION:1830 Hollyoak Dr\, Houston\, AL 77084 US
SUMMARY:Hollyoak: Thanksgiving w/ The CAM Agency
END:VEVENT
END:VCALENDAR
