BEGIN:VCALENDAR
VERSION:2.0
PRODID:-//empowercdc.org//NONSGML kigkonsult.se iCalcreator 2.30.10//
CALSCALE:GREGORIAN
METHOD:PUBLISH
UID:6317e3fb-0e90-4c76-ac54-a446d64df50a
X-WR-CALDESC:SOCIAL-\nThe CAM Agency\n\nThanksgiving Social\n@12:30PM\n*Reg
 istration REQUIRED*
X-WR-RELCALID:ba685fd8b998a6e5612d084c7f478223
X-WR-TIMEZONE:America/Chicago
BEGIN:VTIMEZONE
TZID:America/Chicago
BEGIN:STANDARD
TZNAME:CST
DTSTART:20251102T020000
TZOFFSETFROM:-0500
TZOFFSETTO:-0600
RDATE:20261101T020000
END:STANDARD
BEGIN:DAYLIGHT
TZNAME:CDT
DTSTART:20250309T020000
TZOFFSETFROM:-0600
TZOFFSETTO:-0500
RDATE:20260308T020000
RDATE:20270314T020000
END:DAYLIGHT
END:VTIMEZONE
BEGIN:VEVENT
UID:f5c3d28d-5281-4b95-aee8-09f2ce07f717
DTSTAMP:20260423T175209Z
DESCRIPTION:SOCIAL-\nThe CAM Agency\n\nThanksgiving Social\n@12:30PM\n*Regi
 stration REQUIRED*
DTSTART;TZID=America/Chicago:20251120T123000
DTEND;TZID=America/Chicago:20251120T143000
LOCATION:219 Flagship Blvd\, Montgomery\, TX 77316 US
SUMMARY:The Heritage 55+: Thanksgiving w/ The CAM Agency
END:VEVENT
END:VCALENDAR
