BEGIN:VCALENDAR
VERSION:2.0
PRODID:-//empowercdc.org//NONSGML kigkonsult.se iCalcreator 2.30.10//
CALSCALE:GREGORIAN
METHOD:PUBLISH
UID:72136e7d-c407-4592-9f8f-4469ecec55bc
X-WR-CALDESC:TX SMP\nSCAM OF THE MONTH\n@10AM\n\nSOCIAL\nTHANKSGIVING FEAST
 \n@11AM
X-WR-RELCALID:3614fd198200eb6a49d16e5b27f575c4
X-WR-TIMEZONE:America/Chicago
BEGIN:VTIMEZONE
TZID:America/Chicago
BEGIN:STANDARD
TZNAME:CST
DTSTART:20251102T020000
TZOFFSETFROM:-0500
TZOFFSETTO:-0600
RDATE:20261101T020000
END:STANDARD
BEGIN:DAYLIGHT
TZNAME:CDT
DTSTART:20250309T020000
TZOFFSETFROM:-0600
TZOFFSETTO:-0500
RDATE:20260308T020000
RDATE:20270314T020000
END:DAYLIGHT
END:VTIMEZONE
BEGIN:VEVENT
UID:2bb6c6fb-5b85-4146-ac62-2d6f5403eb14
DTSTAMP:20260423T174054Z
DESCRIPTION:TX SMP\nSCAM OF THE MONTH\n@10AM\n\nSOCIAL\nTHANKSGIVING FEAST
 \n@11AM
DTSTART;TZID=America/Chicago:20251118T100000
DTEND;TZID=America/Chicago:20251118T120000
LOCATION:1717 FM359\, Richmond\, TX 77406 US
SUMMARY:Jones Creek: TxSMP\, Social
END:VEVENT
END:VCALENDAR
