BEGIN:VCALENDAR
VERSION:2.0
PRODID:-//empowercdc.org//NONSGML kigkonsult.se iCalcreator 2.30.10//
CALSCALE:GREGORIAN
METHOD:PUBLISH
UID:e89b6e38-ea64-4cda-9a87-0f45eb6980de
X-WR-CALDESC:EXERCISE- Empower\nAdaptive Fitness\n@11:00AM\n\nOUTREACH & ED
 UCATION-\nEmpower\n\nDisaster Preparedness\nWorkshop\n@12:00PM
X-WR-RELCALID:90a2f99cd6c5d44d2eb208ce65afff7d
X-WR-TIMEZONE:America/Chicago
BEGIN:VTIMEZONE
TZID:America/Chicago
BEGIN:STANDARD
TZNAME:CST
DTSTART:20251102T020000
TZOFFSETFROM:-0500
TZOFFSETTO:-0600
RDATE:20261101T020000
END:STANDARD
BEGIN:DAYLIGHT
TZNAME:CDT
DTSTART:20250309T020000
TZOFFSETFROM:-0600
TZOFFSETTO:-0500
RDATE:20260308T020000
RDATE:20270314T020000
END:DAYLIGHT
END:VTIMEZONE
BEGIN:VEVENT
UID:142183bb-ba3f-4ab5-935b-59249c8a3d45
DTSTAMP:20260423T173744Z
DESCRIPTION:EXERCISE- Empower\nAdaptive Fitness\n@11:00AM\n\nOUTREACH & EDU
 CATION-\nEmpower\n\nDisaster Preparedness\nWorkshop\n@12:00PM
DTSTART;TZID=America/Chicago:20251118T110000
DTEND;TZID=America/Chicago:20251118T130000
LOCATION:1830 Hollyoak Dr\, Houston\, AL 77084 US
SUMMARY:Hollyoak: Exercise\, Outreach & Education
END:VEVENT
END:VCALENDAR
