BEGIN:VCALENDAR
VERSION:2.0
PRODID:-//empowercdc.org//NONSGML kigkonsult.se iCalcreator 2.30.10//
CALSCALE:GREGORIAN
METHOD:PUBLISH
UID:25de7658-caeb-4d01-9098-8261790572ac
X-WR-CALDESC:OUTREACH & EDUCATION-\nEmpower\n\nDisaster Preparedness\nWorks
 hop\n@11:00AM\n\nTxSMP- Empower\nScam of the Month\n@ 12:00PM
X-WR-RELCALID:4ce7869f328029aeadd03a1d631113ad
X-WR-TIMEZONE:America/Chicago
BEGIN:VTIMEZONE
TZID:America/Chicago
BEGIN:STANDARD
TZNAME:CST
DTSTART:20251102T020000
TZOFFSETFROM:-0500
TZOFFSETTO:-0600
RDATE:20261101T020000
END:STANDARD
BEGIN:DAYLIGHT
TZNAME:CDT
DTSTART:20250309T020000
TZOFFSETFROM:-0600
TZOFFSETTO:-0500
RDATE:20260308T020000
RDATE:20270314T020000
END:DAYLIGHT
END:VTIMEZONE
BEGIN:VEVENT
UID:46b63c77-3094-4492-87fb-8f4320276264
DTSTAMP:20260423T174333Z
DESCRIPTION:OUTREACH & EDUCATION-\nEmpower\n\nDisaster Preparedness\nWorksh
 op\n@11:00AM\n\nTxSMP- Empower\nScam of the Month\n@ 12:00PM
DTSTART;TZID=America/Chicago:20251117T110000
DTEND;TZID=America/Chicago:20251117T130000
LOCATION:219 Flagship Blvd\, Montgomery\, TX 77316 US
SUMMARY:The Heritage 55+: Outreach & Education\, TxSMP
END:VEVENT
END:VCALENDAR
