BEGIN:VCALENDAR
VERSION:2.0
PRODID:-//empowercdc.org//NONSGML kigkonsult.se iCalcreator 2.30.10//
CALSCALE:GREGORIAN
METHOD:PUBLISH
UID:87b8eba6-d468-4b3d-90d4-e87be060c9d4
X-WR-CALDESC:ARTS & CRAFTS\nFALL FIGURINE PAINTING\n@10AM\n\nEXERCISE\nCHAI
 R EXERCISE\n@11AM
X-WR-RELCALID:5747bc27351f73ab68cd91c683dc3100
X-WR-TIMEZONE:America/Chicago
BEGIN:VTIMEZONE
TZID:America/Chicago
BEGIN:STANDARD
TZNAME:CST
DTSTART:20251102T020000
TZOFFSETFROM:-0500
TZOFFSETTO:-0600
RDATE:20261101T020000
END:STANDARD
BEGIN:DAYLIGHT
TZNAME:CDT
DTSTART:20250309T020000
TZOFFSETFROM:-0600
TZOFFSETTO:-0500
RDATE:20260308T020000
RDATE:20270314T020000
END:DAYLIGHT
END:VTIMEZONE
BEGIN:VEVENT
UID:fa2ce68b-16dc-475a-8f99-022f30d4960a
DTSTAMP:20260423T173749Z
DESCRIPTION:ARTS & CRAFTS\nFALL FIGURINE PAINTING\n@10AM\n\nEXERCISE\nCHAIR
  EXERCISE\n@11AM
DTSTART;TZID=America/Chicago:20251117T100000
DTEND;TZID=America/Chicago:20251117T120000
LOCATION:1717 FM359\, Richmond\, TX 77406 US
SUMMARY:Jones Creek: Arts & Crafts\, Exercise
END:VEVENT
END:VCALENDAR
