BEGIN:VCALENDAR
VERSION:2.0
PRODID:-//empowercdc.org//NONSGML kigkonsult.se iCalcreator 2.30.10//
CALSCALE:GREGORIAN
METHOD:PUBLISH
UID:14ea64a8-76ff-4f63-8795-36e659807828
X-WR-CALDESC:ARTS & CRAFTS-\nDoTerra- CP\n\nDoTerra Essentials\n@10:00AM\n
 \nOUTREACH & EDUCATION-\nEmpower\n\nNational Diabetes Month\n@11:00AM
X-WR-RELCALID:00592218bfde04524236da288eada503
X-WR-TIMEZONE:America/Chicago
BEGIN:VTIMEZONE
TZID:America/Chicago
BEGIN:STANDARD
TZNAME:CST
DTSTART:20251102T020000
TZOFFSETFROM:-0500
TZOFFSETTO:-0600
RDATE:20261101T020000
END:STANDARD
BEGIN:DAYLIGHT
TZNAME:CDT
DTSTART:20250309T020000
TZOFFSETFROM:-0600
TZOFFSETTO:-0500
RDATE:20260308T020000
RDATE:20270314T020000
END:DAYLIGHT
END:VTIMEZONE
BEGIN:VEVENT
UID:c79c02c1-431d-4840-aec8-2fedf2ac6d54
DTSTAMP:20260423T174333Z
DESCRIPTION:ARTS & CRAFTS-\nDoTerra- CP\n\nDoTerra Essentials\n@10:00AM\n\n
 OUTREACH & EDUCATION-\nEmpower\n\nNational Diabetes Month\n@11:00AM
DTSTART;TZID=America/Chicago:20251114T100000
DTEND;TZID=America/Chicago:20251114T120000
LOCATION:1830 Hollyoak Dr\, Houston\, AL 77084 US
SUMMARY:Hollyoak: Arts & Crafts\, Outreach & Education
END:VEVENT
END:VCALENDAR
