BEGIN:VCALENDAR
VERSION:2.0
PRODID:-//empowercdc.org//NONSGML kigkonsult.se iCalcreator 2.30.10//
CALSCALE:GREGORIAN
METHOD:PUBLISH
UID:0e66b385-a89c-43cd-9454-8db839175448
X-WR-CALDESC:ARTS & CRAFTS-\nEmpower\n\nSea Moss Gel in a Jar\n@3:00PM\n*Re
 gistration Required*
X-WR-RELCALID:25015685625fb19d92d59459e9347661
X-WR-TIMEZONE:America/Chicago
BEGIN:VTIMEZONE
TZID:America/Chicago
BEGIN:STANDARD
TZNAME:CST
DTSTART:20251102T020000
TZOFFSETFROM:-0500
TZOFFSETTO:-0600
RDATE:20261101T020000
END:STANDARD
BEGIN:DAYLIGHT
TZNAME:CDT
DTSTART:20250309T020000
TZOFFSETFROM:-0600
TZOFFSETTO:-0500
RDATE:20260308T020000
RDATE:20270314T020000
END:DAYLIGHT
END:VTIMEZONE
BEGIN:VEVENT
UID:675293cd-4c62-42f5-80d2-88b7448cbaa5
DTSTAMP:20260423T173659Z
DESCRIPTION:ARTS & CRAFTS-\nEmpower\n\nSea Moss Gel in a Jar\n@3:00PM\n*Reg
 istration Required*
DTSTART;TZID=America/Chicago:20251113T150000
DTEND;TZID=America/Chicago:20251113T160000
LOCATION:325 Flagship Boulevard\, Montgomery\, AL 77316 US
SUMMARY:The Heritage: Arts & Crafts
END:VEVENT
END:VCALENDAR
