BEGIN:VCALENDAR
VERSION:2.0
PRODID:-//empowercdc.org//NONSGML kigkonsult.se iCalcreator 2.30.10//
CALSCALE:GREGORIAN
METHOD:PUBLISH
UID:513368a9-8b17-47c7-aa46-16a6be0cbfb6
X-WR-CALDESC:EXERCISE-\nUnity Fit- CP\n\nChair Dance\n@10:00AM
X-WR-RELCALID:9a5e70e6c1098d978f217c49d62c166d
X-WR-TIMEZONE:America/Chicago
BEGIN:VTIMEZONE
TZID:America/Chicago
BEGIN:STANDARD
TZNAME:CST
DTSTART:20251102T020000
TZOFFSETFROM:-0500
TZOFFSETTO:-0600
RDATE:20261101T020000
END:STANDARD
BEGIN:DAYLIGHT
TZNAME:CDT
DTSTART:20250309T020000
TZOFFSETFROM:-0600
TZOFFSETTO:-0500
RDATE:20260308T020000
RDATE:20270314T020000
END:DAYLIGHT
END:VTIMEZONE
BEGIN:VEVENT
UID:a46b305b-08f3-46e9-9d74-6fa6bcccedde
DTSTAMP:20260423T173455Z
DESCRIPTION:EXERCISE-\nUnity Fit- CP\n\nChair Dance\n@10:00AM
DTSTART;TZID=America/Chicago:20251112T100000
DTEND;TZID=America/Chicago:20251112T110000
LOCATION:1830 Hollyoak Dr\, Houston\, AL 77084 US
SUMMARY:Hollyoak: Exercise
END:VEVENT
END:VCALENDAR
