BEGIN:VCALENDAR
VERSION:2.0
PRODID:-//empowercdc.org//NONSGML kigkonsult.se iCalcreator 2.30.10//
CALSCALE:GREGORIAN
METHOD:PUBLISH
UID:541e297b-e002-42f8-9f71-a5b46658b712
X-WR-CALDESC:OUTREACH & EDUCATION-\nEmpower\n\nDisaster Preparedness\nWorks
 hop\n@2:00PM
X-WR-RELCALID:6d5483ef772679e1ee6780edd791fecc
X-WR-TIMEZONE:America/Chicago
BEGIN:VTIMEZONE
TZID:America/Chicago
BEGIN:STANDARD
TZNAME:CST
DTSTART:20251102T020000
TZOFFSETFROM:-0500
TZOFFSETTO:-0600
RDATE:20261101T020000
END:STANDARD
BEGIN:DAYLIGHT
TZNAME:CDT
DTSTART:20250309T020000
TZOFFSETFROM:-0600
TZOFFSETTO:-0500
RDATE:20260308T020000
RDATE:20270314T020000
END:DAYLIGHT
END:VTIMEZONE
BEGIN:VEVENT
UID:e882916e-29f5-4b16-b355-835d96dfb670
DTSTAMP:20260423T173921Z
DESCRIPTION:OUTREACH & EDUCATION-\nEmpower\n\nDisaster Preparedness\nWorksh
 op\n@2:00PM
DTSTART;TZID=America/Chicago:20251110T140000
DTEND;TZID=America/Chicago:20251110T150000
LOCATION:325 Flagship Boulevard\, Montgomery\, AL 77316 US
SUMMARY:The Heritage: Outreach & Education
END:VEVENT
END:VCALENDAR
