BEGIN:VCALENDAR
VERSION:2.0
PRODID:-//empowercdc.org//NONSGML kigkonsult.se iCalcreator 2.30.10//
CALSCALE:GREGORIAN
METHOD:PUBLISH
UID:9a733f3f-1754-4481-b8b9-aa6c3069950d
X-WR-CALDESC:OUTREACH &\nEDUCATION-Empower\nDomestic Violence\n@11:30AM
X-WR-RELCALID:42e91fb1abba9d29644553180be05916
X-WR-TIMEZONE:America/Chicago
BEGIN:VTIMEZONE
TZID:America/Chicago
BEGIN:STANDARD
TZNAME:CST
DTSTART:20251102T020000
TZOFFSETFROM:-0500
TZOFFSETTO:-0600
RDATE:20261101T020000
END:STANDARD
BEGIN:DAYLIGHT
TZNAME:CDT
DTSTART:20250309T020000
TZOFFSETFROM:-0600
TZOFFSETTO:-0500
RDATE:20260308T020000
RDATE:20270314T020000
END:DAYLIGHT
END:VTIMEZONE
BEGIN:VEVENT
UID:56c16d12-327f-4298-8ee6-da97a4aebea1
DTSTAMP:20260423T174050Z
DESCRIPTION:OUTREACH &\nEDUCATION-Empower\nDomestic Violence\n@11:30AM
DTSTART;TZID=America/Chicago:20251110T113000
DTEND;TZID=America/Chicago:20251110T123000
LOCATION:219 Flagship Blvd\, Montgomery\, TX 77316 US
SUMMARY:The Heritage 55+: Outreach & Education
END:VEVENT
END:VCALENDAR
