BEGIN:VCALENDAR
VERSION:2.0
PRODID:-//empowercdc.org//NONSGML kigkonsult.se iCalcreator 2.30.10//
CALSCALE:GREGORIAN
METHOD:PUBLISH
UID:e2acfc9c-706c-4023-9de9-06c9a97f019f
X-WR-CALDESC:10\nARTS & CRAFTS\nDIY FALL APRONS\n@10AM\n\nEXERCISE\nFITNESS
  BINGO\nCP-Jeanette Morales\n@11AM
X-WR-RELCALID:252c8fbabf5d59813be10e42bd641b1f
X-WR-TIMEZONE:America/Chicago
BEGIN:VTIMEZONE
TZID:America/Chicago
BEGIN:STANDARD
TZNAME:CST
DTSTART:20251102T020000
TZOFFSETFROM:-0500
TZOFFSETTO:-0600
RDATE:20261101T020000
END:STANDARD
BEGIN:DAYLIGHT
TZNAME:CDT
DTSTART:20250309T020000
TZOFFSETFROM:-0600
TZOFFSETTO:-0500
RDATE:20260308T020000
RDATE:20270314T020000
END:DAYLIGHT
END:VTIMEZONE
BEGIN:VEVENT
UID:90b46585-0904-468d-ac69-1878df6c3085
DTSTAMP:20260423T173722Z
DESCRIPTION:10\nARTS & CRAFTS\nDIY FALL APRONS\n@10AM\n\nEXERCISE\nFITNESS 
 BINGO\nCP-Jeanette Morales\n@11AM
DTSTART;TZID=America/Chicago:20251110T100000
DTEND;TZID=America/Chicago:20251110T120000
LOCATION:1717 FM359\, Richmond\, TX 77406 US
SUMMARY:Jones Creek: Arts & Crafts\, Exercise
END:VEVENT
END:VCALENDAR
