BEGIN:VCALENDAR
VERSION:2.0
PRODID:-//empowercdc.org//NONSGML kigkonsult.se iCalcreator 2.30.10//
CALSCALE:GREGORIAN
METHOD:PUBLISH
UID:9f8bd035-64df-4eb8-b56e-638506a70709
X-WR-CALDESC:SOCIAL-Cedar- CP\nFor the Love of BINGO!!!\n@ 1:00PM
X-WR-RELCALID:11ca840d65744dfa49eee1c68d9e31cb
X-WR-TIMEZONE:America/Chicago
BEGIN:VTIMEZONE
TZID:America/Chicago
BEGIN:STANDARD
TZNAME:CST
DTSTART:20251102T020000
TZOFFSETFROM:-0500
TZOFFSETTO:-0600
RDATE:20261101T020000
END:STANDARD
BEGIN:DAYLIGHT
TZNAME:CDT
DTSTART:20250309T020000
TZOFFSETFROM:-0600
TZOFFSETTO:-0500
RDATE:20260308T020000
RDATE:20270314T020000
END:DAYLIGHT
END:VTIMEZONE
BEGIN:VEVENT
UID:77ed4e67-8320-46c4-9c43-94c4b5e2f2cd
DTSTAMP:20260423T173507Z
DESCRIPTION:SOCIAL-Cedar- CP\nFor the Love of BINGO!!!\n@ 1:00PM
DTSTART;TZID=America/Chicago:20251107T130000
DTEND;TZID=America/Chicago:20251107T150000
LOCATION:1830 Hollyoak Dr\, Houston\, AL 77084 US
SUMMARY:Hollyoak: Bingo
END:VEVENT
END:VCALENDAR
