BEGIN:VCALENDAR
VERSION:2.0
PRODID:-//empowercdc.org//NONSGML kigkonsult.se iCalcreator 2.30.10//
CALSCALE:GREGORIAN
METHOD:PUBLISH
UID:d2b3aca4-090b-49eb-8214-40b7b4050b48
X-WR-CALDESC:ARTS & CRAFTS- Empower\n\nHoliday Art\n@3:00PM\n*Registration 
 Required*
X-WR-RELCALID:bf95d3c9ebd5aa369f9b894e25788928
X-WR-TIMEZONE:America/Chicago
BEGIN:VTIMEZONE
TZID:America/Chicago
BEGIN:STANDARD
TZNAME:CST
DTSTART:20251102T020000
TZOFFSETFROM:-0500
TZOFFSETTO:-0600
RDATE:20261101T020000
END:STANDARD
BEGIN:DAYLIGHT
TZNAME:CDT
DTSTART:20250309T020000
TZOFFSETFROM:-0600
TZOFFSETTO:-0500
RDATE:20260308T020000
RDATE:20270314T020000
END:DAYLIGHT
END:VTIMEZONE
BEGIN:VEVENT
UID:11387251-c3eb-42e9-95a2-83b1b88c8b54
DTSTAMP:20260423T173700Z
DESCRIPTION:ARTS & CRAFTS- Empower\n\nHoliday Art\n@3:00PM\n*Registration R
 equired*
DTSTART;TZID=America/Chicago:20251106T150000
DTEND;TZID=America/Chicago:20251106T160000
LOCATION:325 Flagship Boulevard\, Montgomery\, AL 77316 US
SUMMARY:The Heritage: Arts & Crafts
END:VEVENT
END:VCALENDAR
