BEGIN:VCALENDAR
VERSION:2.0
PRODID:-//empowercdc.org//NONSGML kigkonsult.se iCalcreator 2.30.10//
CALSCALE:GREGORIAN
METHOD:PUBLISH
UID:4d2d6826-8583-4443-93ee-44f095b07b6d
X-WR-CALDESC:ARTS & CRAFTS-\nEmpower\n\nHoliday Art\n@11:00 AM\n*Registrati
 on Required*
X-WR-RELCALID:7fd83a258e03228aaa35ae5cc5ef45fd
X-WR-TIMEZONE:America/Chicago
BEGIN:VTIMEZONE
TZID:America/Chicago
BEGIN:STANDARD
TZNAME:CST
DTSTART:20251102T020000
TZOFFSETFROM:-0500
TZOFFSETTO:-0600
RDATE:20261101T020000
END:STANDARD
BEGIN:DAYLIGHT
TZNAME:CDT
DTSTART:20250309T020000
TZOFFSETFROM:-0600
TZOFFSETTO:-0500
RDATE:20260308T020000
RDATE:20270314T020000
END:DAYLIGHT
END:VTIMEZONE
BEGIN:VEVENT
UID:fc546cae-8929-453a-9a83-9e9e3d990067
DTSTAMP:20260423T173743Z
DESCRIPTION:ARTS & CRAFTS-\nEmpower\n\nHoliday Art\n@11:00 AM\n*Registratio
 n Required*
DTSTART;TZID=America/Chicago:20251106T110000
DTEND;TZID=America/Chicago:20251106T120000
LOCATION:219 Flagship Blvd\, Montgomery\, TX 77316 US
SUMMARY:The Heritage 55+: Arts & Crafts
END:VEVENT
END:VCALENDAR
