BEGIN:VCALENDAR
VERSION:2.0
PRODID:-//empowercdc.org//NONSGML kigkonsult.se iCalcreator 2.30.10//
CALSCALE:GREGORIAN
METHOD:PUBLISH
UID:a8ef1866-6a4e-4abc-acb1-7af1a2416b8e
X-WR-CALDESC:SOCIAL- Texans\nBenefit- CP\nBirthday Social\n@2:30PM
X-WR-RELCALID:72cbd2cd9d2d535a38f24f7e48cb3dc6
X-WR-TIMEZONE:America/Chicago
BEGIN:VTIMEZONE
TZID:America/Chicago
BEGIN:STANDARD
TZNAME:CST
DTSTART:20251102T020000
TZOFFSETFROM:-0500
TZOFFSETTO:-0600
RDATE:20261101T020000
END:STANDARD
BEGIN:DAYLIGHT
TZNAME:CDT
DTSTART:20250309T020000
TZOFFSETFROM:-0600
TZOFFSETTO:-0500
RDATE:20260308T020000
RDATE:20270314T020000
END:DAYLIGHT
END:VTIMEZONE
BEGIN:VEVENT
UID:a24e5277-cb99-49ca-a028-fa9623683a4e
DTSTAMP:20260423T173608Z
DESCRIPTION:SOCIAL- Texans\nBenefit- CP\nBirthday Social\n@2:30PM
DTSTART;TZID=America/Chicago:20251105T143000
DTEND;TZID=America/Chicago:20251105T160000
LOCATION:325 Flagship Boulevard\, Montgomery\, AL 77316 US
SUMMARY:The Heritage: Texans Benefit
END:VEVENT
END:VCALENDAR
