BEGIN:VCALENDAR
VERSION:2.0
PRODID:-//empowercdc.org//NONSGML kigkonsult.se iCalcreator 2.30.10//
CALSCALE:GREGORIAN
METHOD:PUBLISH
UID:723671e4-dd86-45ee-ac7f-b8752725c2d2
X-WR-CALDESC:SOCIAL-\nTexans Benefit-CP\n\nBirthday Social\n@ 12:30PM
X-WR-RELCALID:aa338758546cc0d7ced750488a9031cf
X-WR-TIMEZONE:America/Chicago
BEGIN:VTIMEZONE
TZID:America/Chicago
BEGIN:STANDARD
TZNAME:CST
DTSTART:20251102T020000
TZOFFSETFROM:-0500
TZOFFSETTO:-0600
RDATE:20261101T020000
END:STANDARD
BEGIN:DAYLIGHT
TZNAME:CDT
DTSTART:20250309T020000
TZOFFSETFROM:-0600
TZOFFSETTO:-0500
RDATE:20260308T020000
RDATE:20270314T020000
END:DAYLIGHT
END:VTIMEZONE
BEGIN:VEVENT
UID:20ba4113-02f6-4a11-8dbd-f2bd24f565c3
DTSTAMP:20260423T173619Z
DESCRIPTION:SOCIAL-\nTexans Benefit-CP\n\nBirthday Social\n@ 12:30PM
DTSTART;TZID=America/Chicago:20251105T123000
DTEND;TZID=America/Chicago:20251105T130000
LOCATION:219 Flagship Blvd\, Montgomery\, TX 77316 US
SUMMARY:The Heritage 55+: Texans Benefit
END:VEVENT
END:VCALENDAR
