BEGIN:VCALENDAR
VERSION:2.0
PRODID:-//empowercdc.org//NONSGML kigkonsult.se iCalcreator 2.30.10//
CALSCALE:GREGORIAN
METHOD:PUBLISH
UID:558d349c-051e-4be5-ace2-6f1251182847
X-WR-CALDESC:SENIOR 101 EMAIL LITERACY\nWORKSHOP\nRECOGNIZING SCAMS & FRAUD
 \n@10AM\n\nEXERCISE\nCHAIR EXERCISE\n@10:30AM
X-WR-RELCALID:59440cdef6f7109ad5ca4f88fd9af171
X-WR-TIMEZONE:America/Chicago
BEGIN:VTIMEZONE
TZID:America/Chicago
BEGIN:STANDARD
TZNAME:CST
DTSTART:20251102T020000
TZOFFSETFROM:-0500
TZOFFSETTO:-0600
RDATE:20261101T020000
END:STANDARD
BEGIN:DAYLIGHT
TZNAME:CDT
DTSTART:20250309T020000
TZOFFSETFROM:-0600
TZOFFSETTO:-0500
RDATE:20260308T020000
RDATE:20270314T020000
END:DAYLIGHT
END:VTIMEZONE
BEGIN:VEVENT
UID:4e79ede8-c516-4d1b-82b3-5c3506513287
DTSTAMP:20260423T173625Z
DESCRIPTION:SENIOR 101 EMAIL LITERACY\nWORKSHOP\nRECOGNIZING SCAMS & FRAUD
 \n@10AM\n\nEXERCISE\nCHAIR EXERCISE\n@10:30AM
DTSTART;TZID=America/Chicago:20251104T100000
DTEND;TZID=America/Chicago:20251104T113000
LOCATION:1717 FM359\, Richmond\, TX 77406 US
SUMMARY:Jones Creek: Senior 101\, Exercise
END:VEVENT
END:VCALENDAR
