BEGIN:VCALENDAR
VERSION:2.0
PRODID:-//empowercdc.org//NONSGML kigkonsult.se iCalcreator 2.30.10//
CALSCALE:GREGORIAN
METHOD:PUBLISH
UID:1a9ef79e-903b-4995-96c0-5f173d090366
X-WR-CALDESC:TxSMP- Empower\nScam of the Month\n@2:00PM\n\nCHARACTER\nBUILD
 ING-Empower\nThankfulness\n@3:00PM
X-WR-RELCALID:da9ade000ecab4b1d983ebd0ab4a34cd
X-WR-TIMEZONE:America/Chicago
BEGIN:VTIMEZONE
TZID:America/Chicago
BEGIN:STANDARD
TZNAME:CST
DTSTART:20241103T020000
TZOFFSETFROM:-0500
TZOFFSETTO:-0600
RDATE:20251102T020000
RDATE:20261101T020000
END:STANDARD
BEGIN:DAYLIGHT
TZNAME:CDT
DTSTART:20250309T020000
TZOFFSETFROM:-0600
TZOFFSETTO:-0500
RDATE:20260308T020000
RDATE:20270314T020000
END:DAYLIGHT
END:VTIMEZONE
BEGIN:VEVENT
UID:dcc55748-1260-45bd-877a-72bf00645b44
DTSTAMP:20260423T173811Z
DESCRIPTION:TxSMP- Empower\nScam of the Month\n@2:00PM\n\nCHARACTER\nBUILDI
 NG-Empower\nThankfulness\n@3:00PM
DTSTART;TZID=America/Chicago:20251103T140000
DTEND;TZID=America/Chicago:20251103T150000
LOCATION:325 Flagship Boulevard\, Montgomery\, AL 77316 US
SUMMARY:The Heritage: TxSMP\, Character Building
END:VEVENT
END:VCALENDAR
