BEGIN:VCALENDAR
VERSION:2.0
PRODID:-//empowercdc.org//NONSGML kigkonsult.se iCalcreator 2.30.10//
CALSCALE:GREGORIAN
METHOD:PUBLISH
UID:502a17a3-840f-4a6c-9ca9-f24718ae779b
X-WR-CALDESC:SOCIAL\nHALLOWEEN HUNTED\nHOUSE/TRICK OR TREAT\n@4:30PM\n\n*Re
 sident only event*
X-WR-RELCALID:1b0cab6ac1875a8fd82fe9fe3a49506e
X-WR-TIMEZONE:America/Chicago
BEGIN:VTIMEZONE
TZID:America/Chicago
BEGIN:STANDARD
TZNAME:CST
DTSTART:20241103T020000
TZOFFSETFROM:-0500
TZOFFSETTO:-0600
RDATE:20251102T020000
RDATE:20261101T020000
END:STANDARD
BEGIN:DAYLIGHT
TZNAME:CDT
DTSTART:20250309T020000
TZOFFSETFROM:-0600
TZOFFSETTO:-0500
RDATE:20260308T020000
RDATE:20270314T020000
END:DAYLIGHT
END:VTIMEZONE
BEGIN:VEVENT
UID:f1d490cf-c679-45b8-b8b1-6136bba26ece
DTSTAMP:20260423T161616Z
DESCRIPTION:SOCIAL\nHALLOWEEN HUNTED\nHOUSE/TRICK OR TREAT\n@4:30PM\n\n*Res
 ident only event*
DTSTART;TZID=America/Chicago:20251031T163000
DTEND;TZID=America/Chicago:20251031T173000
LOCATION:1620 Spencer Hwy\, South Houston\, TX 77587 US
SUMMARY:Windsor Gardens: Social
END:VEVENT
END:VCALENDAR
