BEGIN:VCALENDAR
VERSION:2.0
PRODID:-//empowercdc.org//NONSGML kigkonsult.se iCalcreator 2.30.10//
CALSCALE:GREGORIAN
METHOD:PUBLISH
UID:d14a2c66-5beb-4415-b50b-1a24e846e38d
X-WR-CALDESC:FINANCIAL PLANNING-\nWSB\n\nJeopardy\n@2:00PM
X-WR-RELCALID:d722b515b95db1ada37c831466624c66
X-WR-TIMEZONE:America/Chicago
BEGIN:VTIMEZONE
TZID:America/Chicago
BEGIN:STANDARD
TZNAME:CST
DTSTART:20241103T020000
TZOFFSETFROM:-0500
TZOFFSETTO:-0600
RDATE:20251102T020000
RDATE:20261101T020000
END:STANDARD
BEGIN:DAYLIGHT
TZNAME:CDT
DTSTART:20250309T020000
TZOFFSETFROM:-0600
TZOFFSETTO:-0500
RDATE:20260308T020000
RDATE:20270314T020000
END:DAYLIGHT
END:VTIMEZONE
BEGIN:VEVENT
UID:a1d01ef0-edbe-41ca-aa51-48bf7dfebf1a
DTSTAMP:20260423T163757Z
DESCRIPTION:FINANCIAL PLANNING-\nWSB\n\nJeopardy\n@2:00PM
DTSTART;TZID=America/Chicago:20251030T160000
DTEND;TZID=America/Chicago:20251030T170000
LOCATION:325 Flagship Boulevard\, Montgomery\, TX 77316 US
SUMMARY:The Heritage: Halloween Party
END:VEVENT
END:VCALENDAR
