BEGIN:VCALENDAR
VERSION:2.0
PRODID:-//empowercdc.org//NONSGML kigkonsult.se iCalcreator 2.30.10//
CALSCALE:GREGORIAN
METHOD:PUBLISH
UID:8cdf8d22-41ae-4e1f-a911-102aba841cd9
X-WR-CALDESC:SOCIAL\nDISCO BINGO Costume\nParty\n@6:30PM
X-WR-RELCALID:25ac4209e7fe7f3bfbe46986f6a02779
X-WR-TIMEZONE:America/Chicago
BEGIN:VTIMEZONE
TZID:America/Chicago
BEGIN:STANDARD
TZNAME:CST
DTSTART:20241103T020000
TZOFFSETFROM:-0500
TZOFFSETTO:-0600
RDATE:20251102T020000
RDATE:20261101T020000
END:STANDARD
BEGIN:DAYLIGHT
TZNAME:CDT
DTSTART:20250309T020000
TZOFFSETFROM:-0600
TZOFFSETTO:-0500
RDATE:20260308T020000
RDATE:20270314T020000
END:DAYLIGHT
END:VTIMEZONE
BEGIN:VEVENT
UID:bfe95028-d908-4d03-9eb3-49e1f5a549a1
DTSTAMP:20260423T164404Z
DESCRIPTION:SOCIAL\nDISCO BINGO Costume\nParty\n@6:30PM
DTSTART;TZID=America/Chicago:20251028T183000
DTEND;TZID=America/Chicago:20251028T193000
LOCATION:15707 Kuykendahl Ct\, Conroe\, AL 77384 US
SUMMARY:Kuykendalh Court: Social
END:VEVENT
END:VCALENDAR
