BEGIN:VCALENDAR
VERSION:2.0
PRODID:-//empowercdc.org//NONSGML kigkonsult.se iCalcreator 2.30.10//
CALSCALE:GREGORIAN
METHOD:PUBLISH
UID:7d8ec866-1df3-49c4-885d-d7c65ff78e0e
X-WR-CALDESC:EXERCISE\nKIDS RECESS WORKOUT\n@3:30PM\n\n*Resident only event
 *
X-WR-RELCALID:12e5c457071348111e3a2362473a2d02
X-WR-TIMEZONE:America/Chicago
BEGIN:VTIMEZONE
TZID:America/Chicago
BEGIN:STANDARD
TZNAME:CST
DTSTART:20241103T020000
TZOFFSETFROM:-0500
TZOFFSETTO:-0600
RDATE:20251102T020000
RDATE:20261101T020000
END:STANDARD
BEGIN:DAYLIGHT
TZNAME:CDT
DTSTART:20250309T020000
TZOFFSETFROM:-0600
TZOFFSETTO:-0500
RDATE:20260308T020000
RDATE:20270314T020000
END:DAYLIGHT
END:VTIMEZONE
BEGIN:VEVENT
UID:b2de6a68-c23c-44ca-91e9-9a3609437e28
DTSTAMP:20260423T161421Z
DESCRIPTION:EXERCISE\nKIDS RECESS WORKOUT\n@3:30PM\n\n*Resident only event*
DTSTART;TZID=America/Chicago:20251027T153000
DTEND;TZID=America/Chicago:20251027T163000
LOCATION:1620 Spencer Hwy\, South Houston\, TX 77587 US
SUMMARY:Windsor Gardens: Exercise
END:VEVENT
END:VCALENDAR
