BEGIN:VCALENDAR
VERSION:2.0
PRODID:-//empowercdc.org//NONSGML kigkonsult.se iCalcreator 2.30.10//
CALSCALE:GREGORIAN
METHOD:PUBLISH
UID:52929a8e-563b-472c-8b54-5c9e5b8dff5c
X-WR-CALDESC:FINANCIAL PLANNING- WSB\n\nJeopardy\n@2:00PM
X-WR-RELCALID:6ecb6df7c26c7d426d92ea354c6a9000
X-WR-TIMEZONE:America/Chicago
BEGIN:VTIMEZONE
TZID:America/Chicago
BEGIN:STANDARD
TZNAME:CST
DTSTART:20241103T020000
TZOFFSETFROM:-0500
TZOFFSETTO:-0600
RDATE:20251102T020000
RDATE:20261101T020000
END:STANDARD
BEGIN:DAYLIGHT
TZNAME:CDT
DTSTART:20250309T020000
TZOFFSETFROM:-0600
TZOFFSETTO:-0500
RDATE:20260308T020000
RDATE:20270314T020000
END:DAYLIGHT
END:VTIMEZONE
BEGIN:VEVENT
UID:c226b6eb-e783-49c3-85e2-a1615d2473ad
DTSTAMP:20260423T163621Z
DESCRIPTION:FINANCIAL PLANNING- WSB\n\nJeopardy\n@2:00PM
DTSTART;TZID=America/Chicago:20251027T140000
DTEND;TZID=America/Chicago:20251027T150000
LOCATION:325 Flagship Boulevard\, Montgomery\, TX 77316 US
SUMMARY:The Heritage: Financial Planning
END:VEVENT
END:VCALENDAR
