BEGIN:VCALENDAR
VERSION:2.0
PRODID:-//empowercdc.org//NONSGML kigkonsult.se iCalcreator 2.30.10//
CALSCALE:GREGORIAN
METHOD:PUBLISH
UID:acb149ab-a083-4f52-bd8a-a1234320d2f2
X-WR-CALDESC:EXERCISE\nCHAIR EXERCISE\n@10AM\n\nSOCIAL\nBIRTHDAY PARTY\nCP-
 SOO YOUNG\n@11AM\n\n*Resident only event*
X-WR-RELCALID:a0f3382b0690ddcfa74c1bae4f3edc21
X-WR-TIMEZONE:America/Chicago
BEGIN:VTIMEZONE
TZID:America/Chicago
BEGIN:STANDARD
TZNAME:CST
DTSTART:20241103T020000
TZOFFSETFROM:-0500
TZOFFSETTO:-0600
RDATE:20251102T020000
RDATE:20261101T020000
END:STANDARD
BEGIN:DAYLIGHT
TZNAME:CDT
DTSTART:20250309T020000
TZOFFSETFROM:-0600
TZOFFSETTO:-0500
RDATE:20260308T020000
RDATE:20270314T020000
END:DAYLIGHT
END:VTIMEZONE
BEGIN:VEVENT
UID:1b0a13f0-a63b-4562-8cef-d49fe352d3f8
DTSTAMP:20260423T162901Z
DESCRIPTION:EXERCISE\nCHAIR EXERCISE\n@10AM\n\nSOCIAL\nBIRTHDAY PARTY\nCP-S
 OO YOUNG\n@11AM\n\n*Resident only event*
DTSTART;TZID=America/Chicago:20251027T100000
DTEND;TZID=America/Chicago:20251027T120000
LOCATION:1717 FM359\, Richmond\, TX 77406 US
SUMMARY:Jones Creek: Exercise\, Social
END:VEVENT
END:VCALENDAR
