BEGIN:VCALENDAR
VERSION:2.0
PRODID:-//empowercdc.org//NONSGML kigkonsult.se iCalcreator 2.30.10//
CALSCALE:GREGORIAN
METHOD:PUBLISH
UID:1d4cd5b6-1c9e-4074-82d5-f19330e759d5
X-WR-CALDESC:Join us for our First Annual Fall Feastival\, an evening of gr
 eat food\, live entertainment\, and community celebration. Guests will enj
 oy a full Italian dinner with vegan options\, a fresh side salad\, dessert
 \, and two complimentary glasses of wine or beer. A live magic show will t
 ake place during dinner\, followed by a performance from a live blues band
  to close out the night.\n\nAll proceeds from the event will directly supp
 ort Empower CDC’s programs and services that uplift and serve families acr
 oss Houston.
X-WR-RELCALID:43bb4648f0984066151b0a4b93e587c6
X-WR-TIMEZONE:America/Chicago
BEGIN:VTIMEZONE
TZID:America/Chicago
BEGIN:STANDARD
TZNAME:CST
DTSTART:20241103T020000
TZOFFSETFROM:-0500
TZOFFSETTO:-0600
RDATE:20251102T020000
RDATE:20261101T020000
END:STANDARD
BEGIN:DAYLIGHT
TZNAME:CDT
DTSTART:20250309T020000
TZOFFSETFROM:-0600
TZOFFSETTO:-0500
RDATE:20260308T020000
RDATE:20270314T020000
END:DAYLIGHT
END:VTIMEZONE
BEGIN:VEVENT
UID:e31bc7b5-c05f-4d04-b0c2-c83527535c12
DTSTAMP:20260423T161305Z
DESCRIPTION:Join us for our First Annual Fall Feastival\, an evening of gre
 at food\, live entertainment\, and community celebration. Guests will enjo
 y a full Italian dinner with vegan options\, a fresh side salad\, dessert\
 , and two complimentary glasses of wine or beer. A live magic show will ta
 ke place during dinner\, followed by a performance from a live blues band 
 to close out the night.\n\nAll proceeds from the event will directly suppo
 rt Empower CDC’s programs and services that uplift and serve families acro
 ss Houston.
DTSTART;TZID=America/Chicago:20251025T180000
DTEND;TZID=America/Chicago:20251025T220000
LOCATION:21902 Northwest Fwy\, Cypress\, TX 77429 US
SUMMARY:Fall Feastival
END:VEVENT
END:VCALENDAR
