BEGIN:VCALENDAR
VERSION:2.0
PRODID:-//empowercdc.org//NONSGML kigkonsult.se iCalcreator 2.30.10//
CALSCALE:GREGORIAN
METHOD:PUBLISH
UID:a59c285d-eaff-4c8a-8f37-a6620b2b0e5b
X-WR-CALDESC:SOCIAL -\nEmpower\nHalloween Social\n@ 6:00 PM\n\n*Resident on
 ly event*
X-WR-RELCALID:389ae8b14acb09caf03641c4640dfbef
X-WR-TIMEZONE:America/Chicago
BEGIN:VTIMEZONE
TZID:America/Chicago
BEGIN:STANDARD
TZNAME:CST
DTSTART:20241103T020000
TZOFFSETFROM:-0500
TZOFFSETTO:-0600
RDATE:20251102T020000
RDATE:20261101T020000
END:STANDARD
BEGIN:DAYLIGHT
TZNAME:CDT
DTSTART:20250309T020000
TZOFFSETFROM:-0600
TZOFFSETTO:-0500
RDATE:20260308T020000
RDATE:20270314T020000
END:DAYLIGHT
END:VTIMEZONE
BEGIN:VEVENT
UID:e3a59017-47c2-4bdf-8e87-bebc637f928d
DTSTAMP:20260423T163738Z
DESCRIPTION:SOCIAL -\nEmpower\nHalloween Social\n@ 6:00 PM\n\n*Resident onl
 y event*
DTSTART;TZID=America/Chicago:20251024T180000
DTEND;TZID=America/Chicago:20251024T190000
LOCATION:12353 Huffmeister Rd\, Cypress\, TX 77429 US
SUMMARY:The Meadows: Halloween Social
END:VEVENT
END:VCALENDAR
