BEGIN:VCALENDAR
VERSION:2.0
PRODID:-//empowercdc.org//NONSGML kigkonsult.se iCalcreator 2.30.10//
CALSCALE:GREGORIAN
METHOD:PUBLISH
UID:a0c8af50-3218-410e-bd5c-3cae863b5624
X-WR-CALDESC:EXERCISE\nCHAIR EXERCISE\n@10AM\n\nARTS & CRAFTS\nDIY HALLOWEE
 N DIAMOND PAINTING\n@11AM
X-WR-RELCALID:397f1bcb89b55956c969060e65f3624c
X-WR-TIMEZONE:America/Chicago
BEGIN:VTIMEZONE
TZID:America/Chicago
BEGIN:STANDARD
TZNAME:CST
DTSTART:20241103T020000
TZOFFSETFROM:-0500
TZOFFSETTO:-0600
RDATE:20251102T020000
RDATE:20261101T020000
END:STANDARD
BEGIN:DAYLIGHT
TZNAME:CDT
DTSTART:20250309T020000
TZOFFSETFROM:-0600
TZOFFSETTO:-0500
RDATE:20260308T020000
RDATE:20270314T020000
END:DAYLIGHT
END:VTIMEZONE
BEGIN:VEVENT
UID:12088e8f-beae-4266-a1e1-537664be2b66
DTSTAMP:20260423T164240Z
DESCRIPTION:EXERCISE\nCHAIR EXERCISE\n@10AM\n\nARTS & CRAFTS\nDIY HALLOWEEN
  DIAMOND PAINTING\n@11AM
DTSTART;TZID=America/Chicago:20251024T100000
DTEND;TZID=America/Chicago:20251024T120000
LOCATION:15707 Kuykendahl Ct\, Conroe\, AL 77384 US
SUMMARY:Kuykendalh Court: Exercise\, Arts & Crafts
END:VEVENT
END:VCALENDAR
