BEGIN:VCALENDAR
VERSION:2.0
PRODID:-//empowercdc.org//NONSGML kigkonsult.se iCalcreator 2.30.10//
CALSCALE:GREGORIAN
METHOD:PUBLISH
UID:2b8defa5-ef85-41e5-b2f5-0e14a5d78871
X-WR-CALDESC:OUTREACH & EDUCATION- WSB- CP\n“Financial” Fridays\n@11:00AM
X-WR-RELCALID:0170ae9648906808acce01327454d377
X-WR-TIMEZONE:America/Chicago
BEGIN:VTIMEZONE
TZID:America/Chicago
BEGIN:STANDARD
TZNAME:CST
DTSTART:20241103T020000
TZOFFSETFROM:-0500
TZOFFSETTO:-0600
RDATE:20251102T020000
RDATE:20261101T020000
END:STANDARD
BEGIN:DAYLIGHT
TZNAME:CDT
DTSTART:20250309T020000
TZOFFSETFROM:-0600
TZOFFSETTO:-0500
RDATE:20260308T020000
RDATE:20270314T020000
END:DAYLIGHT
END:VTIMEZONE
BEGIN:VEVENT
UID:baa63960-42f7-4e59-b765-eb22c4a88fac
DTSTAMP:20260423T163902Z
DESCRIPTION:OUTREACH & EDUCATION- WSB- CP\n“Financial” Fridays\n@11:00AM
DTSTART;TZID=America/Chicago:20251024T110000
DTEND;TZID=America/Chicago:20251024T120000
LOCATION:1830 Hollyoak Dr\, Houston\, AL 77084 US
SUMMARY:Hollyoak: Outreach & Education
END:VEVENT
END:VCALENDAR
