BEGIN:VCALENDAR
VERSION:2.0
PRODID:-//empowercdc.org//NONSGML kigkonsult.se iCalcreator 2.30.10//
CALSCALE:GREGORIAN
METHOD:PUBLISH
UID:d71e0b12-ea29-40fc-91d2-0b7fcaddee06
X-WR-CALDESC:ARTS & CRAFTS- Empower\nCoffee Mugs\n@2:00PM\n*Registration Re
 quired*
X-WR-RELCALID:135b09b5e98e84010b7dbfa958e89501
X-WR-TIMEZONE:America/Chicago
BEGIN:VTIMEZONE
TZID:America/Chicago
BEGIN:STANDARD
TZNAME:CST
DTSTART:20241103T020000
TZOFFSETFROM:-0500
TZOFFSETTO:-0600
RDATE:20251102T020000
RDATE:20261101T020000
END:STANDARD
BEGIN:DAYLIGHT
TZNAME:CDT
DTSTART:20250309T020000
TZOFFSETFROM:-0600
TZOFFSETTO:-0500
RDATE:20260308T020000
RDATE:20270314T020000
END:DAYLIGHT
END:VTIMEZONE
BEGIN:VEVENT
UID:3f4da67e-f93c-4f1e-aff2-d52a385ed994
DTSTAMP:20260423T163616Z
DESCRIPTION:ARTS & CRAFTS- Empower\nCoffee Mugs\n@2:00PM\n*Registration Req
 uired*
DTSTART;TZID=America/Chicago:20251023T140000
DTEND;TZID=America/Chicago:20251023T143000
LOCATION:325 Flagship Boulevard\, Montgomery\, TX 77316 US
SUMMARY:The Heritage: Arts & Crafts
END:VEVENT
END:VCALENDAR
